BEGIN:VCALENDAR
VERSION:2.0
PRODID:-//NZLPA - NZ Lay Preacher&#039;s Association - ECPv6.15.20//NONSGML v1.0//EN
CALSCALE:GREGORIAN
METHOD:PUBLISH
X-WR-CALNAME:NZLPA - NZ Lay Preacher&#039;s Association
X-ORIGINAL-URL:https://nzlpa.org.nz
X-WR-CALDESC:Events for NZLPA - NZ Lay Preacher&#039;s Association
REFRESH-INTERVAL;VALUE=DURATION:PT1H
X-Robots-Tag:noindex
X-PUBLISHED-TTL:PT1H
BEGIN:VTIMEZONE
TZID:Pacific/Auckland
BEGIN:STANDARD
TZOFFSETFROM:+1300
TZOFFSETTO:+1200
TZNAME:NZST
DTSTART:20240406T140000
END:STANDARD
BEGIN:DAYLIGHT
TZOFFSETFROM:+1200
TZOFFSETTO:+1300
TZNAME:NZDT
DTSTART:20240928T140000
END:DAYLIGHT
BEGIN:STANDARD
TZOFFSETFROM:+1300
TZOFFSETTO:+1200
TZNAME:NZST
DTSTART:20250405T140000
END:STANDARD
BEGIN:DAYLIGHT
TZOFFSETFROM:+1200
TZOFFSETTO:+1300
TZNAME:NZDT
DTSTART:20250927T140000
END:DAYLIGHT
BEGIN:STANDARD
TZOFFSETFROM:+1300
TZOFFSETTO:+1200
TZNAME:NZST
DTSTART:20260404T140000
END:STANDARD
BEGIN:DAYLIGHT
TZOFFSETFROM:+1200
TZOFFSETTO:+1300
TZNAME:NZDT
DTSTART:20260926T140000
END:DAYLIGHT
END:VTIMEZONE
BEGIN:VEVENT
DTSTART;TZID=Pacific/Auckland:20251129T090000
DTEND;TZID=Pacific/Auckland:20251129T123000
DTSTAMP:20260422T220318
CREATED:20250901T092720Z
LAST-MODIFIED:20251027T061030Z
UID:10000086-1764406800-1764419400@nzlpa.org.nz
SUMMARY:Intercessory Prayer
DESCRIPTION:Join Rev Dr Trevor Hoggard and the Auckland Ecumenical Lay Preachers Gathering (AELP) for a practical\, encouraging session on leading prayers of intercession in worship. Whether you’re experienced or newly giving it a go\, this workshop offers space to build confidence\, share ideas\, and reflect on how we shape our words when we pray on behalf of others. All are welcome — come ready to learn\, laugh\, and listen. \n\n\n\n2025.11.29 NZLPA AELP FlyerTrevorHoggard v2Download
URL:https://nzlpa.org.nz/event/intercessory-prayer/
LOCATION:Wesley Roskill Methodist Church\, 276 Mt Albert Rd\, Sandringham\, Auckland\, 1041\, New Zealand
CATEGORIES:AELP,Gatherings
ATTACH;FMTTYPE=image/png:https://nzlpa.org.nz/wp-content/uploads/2025/09/251129-AELP-Intercessory-Prayer.png
ORGANIZER;CN="Auckland Ecumenical Lay Preachers' Gathering (AELP)":MAILTO:judy.mcfall@gmail.com
END:VEVENT
BEGIN:VEVENT
DTSTART;TZID=Pacific/Auckland:20251201T080000
DTEND;TZID=Pacific/Auckland:20251202T170000
DTSTAMP:20260422T220318
CREATED:20250514T120355Z
LAST-MODIFIED:20251109T224511Z
UID:10000073-1764576000-1764694800@nzlpa.org.nz
SUMMARY:Aotearoa NZ Association for Biblical Studies: 28th Annual Meeting
DESCRIPTION:The 2025 Annual Meeting of the Aotearoa New Zealand Association for Biblical Studies (ANZABS) welcomes papers on any aspect of biblical literature and its reception\, with a dedicated hui–talanoa stream exploring Indigenous approaches to scripture in Aotearoa and the Pacific. \n\n\n\n\nRegister Now\n\n\n\n\nANZABS_2025 ProgrammeDownload\n\n\n\n Registration fees (including morning and afternoon teas):o $50 wagedo $25 online only and/or unwagedo Payable online via bank deposit in the ANZABS account 12-3125-0475839-00\, using your surname as reference.If you require a receipt\, contact the ANZABS treasurer\, Philip Church\, at PChurch@laidlaw.ac.nz.o Or\, payable at the conference by EFTPOS.An optional conference dinner will be held on the Monday evening\, venue to be announced\, pay individually for what you order.
URL:https://nzlpa.org.nz/event/aotearoa-nz-association-for-biblical-studies-28th-annual-meeting/
LOCATION:Laidlaw College Christchurch Campus\, 70 Condell Avenue\, Papanui\, Christchurch\, 8053\, New Zealand
CATEGORIES:Aotearoa NZ Association for Biblical Studies (ANZABS,Conferences
ATTACH;FMTTYPE=image/png:https://nzlpa.org.nz/wp-content/uploads/2025/05/Samuel-brought-to-Eli-Tinworth.png
END:VEVENT
END:VCALENDAR